BEGIN:VCALENDAR
VERSION:2.0
PRODID:-//De Anbragtes Vilkår - ECPv6.15.17//NONSGML v1.0//EN
CALSCALE:GREGORIAN
METHOD:PUBLISH
X-WR-CALNAME:De Anbragtes Vilkår
X-ORIGINAL-URL:https://deanbragtesvilkar.dk
X-WR-CALDESC:Begivenheder for De Anbragtes Vilkår
REFRESH-INTERVAL;VALUE=DURATION:PT1H
X-Robots-Tag:noindex
X-PUBLISHED-TTL:PT1H
BEGIN:VTIMEZONE
TZID:Europe/Copenhagen
BEGIN:DAYLIGHT
TZOFFSETFROM:+0100
TZOFFSETTO:+0200
TZNAME:CEST
DTSTART:20250330T010000
END:DAYLIGHT
BEGIN:STANDARD
TZOFFSETFROM:+0200
TZOFFSETTO:+0100
TZNAME:CET
DTSTART:20251026T010000
END:STANDARD
BEGIN:DAYLIGHT
TZOFFSETFROM:+0100
TZOFFSETTO:+0200
TZNAME:CEST
DTSTART:20260329T010000
END:DAYLIGHT
BEGIN:STANDARD
TZOFFSETFROM:+0200
TZOFFSETTO:+0100
TZNAME:CET
DTSTART:20261025T010000
END:STANDARD
BEGIN:DAYLIGHT
TZOFFSETFROM:+0100
TZOFFSETTO:+0200
TZNAME:CEST
DTSTART:20270328T010000
END:DAYLIGHT
BEGIN:STANDARD
TZOFFSETFROM:+0200
TZOFFSETTO:+0100
TZNAME:CET
DTSTART:20271031T010000
END:STANDARD
END:VTIMEZONE
BEGIN:VEVENT
DTSTART;TZID=Europe/Copenhagen:20260605T100000
DTEND;TZID=Europe/Copenhagen:20260605T160000
DTSTAMP:20260420T175356
CREATED:20260416T115914Z
LAST-MODIFIED:20260416T121101Z
UID:8804-1780653600-1780675200@deanbragtesvilkar.dk
SUMMARY:Den sociale Grundlovsdag
DESCRIPTION:Kom med De Anbragtes Vilkår til den sociale Grundlovsdag på Nørrebro \nI stedet for politiske taler fra toppen\, er det mennesker med egne erfaringer fra socialt\nudsatte positioner\, der indtager scenen og holder grundlovstalerne. Politikere\,\nbeslutningstagere og offentlighed inviteres med – ikke for at tale\, men for at lytte. \nDen sociale Grundlovsdag skaber et fælles rum\, hvor\nnetop disse erfaringer får plads – ikke som cases eller problemfortællinger\, men som\npolitiske og demokratiske stemmer med gyldighed i sig selv. \nMere info følger\, men alle medlemmer kan deltage
URL:https://deanbragtesvilkar.dk/medlemsevent/den-sociale-grundlovsdag/
LOCATION:Socialt Udviklingscenter\, c/o Mellemfolkelig Samvirke\, Fælledvej 12\, København N\, 2200\, Denmark
CATEGORIES:Fri adgang for alle
ORGANIZER;CN="De Anbragtes Vilk%C3%A5r":MAILTO:frivillig@deanbragtesvilkar.dk
END:VEVENT
END:VCALENDAR